BEGIN:VCALENDAR
VERSION:2.0
PRODID:-//ALL DATA EE d.o.o. - ECPv6.15.20//NONSGML v1.0//EN
CALSCALE:GREGORIAN
METHOD:PUBLISH
X-WR-CALNAME:ALL DATA EE d.o.o.
X-ORIGINAL-URL:https://www.alldataee.com
X-WR-CALDESC:Dogodki za ALL DATA EE d.o.o.
REFRESH-INTERVAL;VALUE=DURATION:PT1H
X-Robots-Tag:noindex
X-PUBLISHED-TTL:PT1H
BEGIN:VTIMEZONE
TZID:Europe/Berlin
BEGIN:DAYLIGHT
TZOFFSETFROM:+0100
TZOFFSETTO:+0200
TZNAME:CEST
DTSTART:20220327T010000
END:DAYLIGHT
BEGIN:STANDARD
TZOFFSETFROM:+0200
TZOFFSETTO:+0100
TZNAME:CET
DTSTART:20221030T010000
END:STANDARD
BEGIN:DAYLIGHT
TZOFFSETFROM:+0100
TZOFFSETTO:+0200
TZNAME:CEST
DTSTART:20230326T010000
END:DAYLIGHT
BEGIN:STANDARD
TZOFFSETFROM:+0200
TZOFFSETTO:+0100
TZNAME:CET
DTSTART:20231029T010000
END:STANDARD
BEGIN:DAYLIGHT
TZOFFSETFROM:+0100
TZOFFSETTO:+0200
TZNAME:CEST
DTSTART:20240331T010000
END:DAYLIGHT
BEGIN:STANDARD
TZOFFSETFROM:+0200
TZOFFSETTO:+0100
TZNAME:CET
DTSTART:20241027T010000
END:STANDARD
END:VTIMEZONE
BEGIN:VEVENT
DTSTART;TZID=Europe/Berlin:20231114T090000
DTEND;TZID=Europe/Berlin:20231117T160000
DTSTAMP:20260424T144201
CREATED:20231023T100025Z
LAST-MODIFIED:20241117T132934Z
UID:14772-1699952400-1700236800@www.alldataee.com
SUMMARY:productronica Munich 2023
DESCRIPTION:[vc_row css_animation=”” row_type=”row” use_row_as_full_screen_section=”no” type=”full_width” angled_section=”no” text_align=”left” background_image_as_pattern=”without_pattern”][vc_column][vc_column_text] \n\n\nVodilni Svetovni Sejem za Razvoj in Proizvodnjo Elektronike\n\n\n\n  \nKot največji mednarodni dogodek za industrijo proizvodnje elektronike je productronica edini sejem na svetu\, ki pokriva celotno vrednostno verigo. Združuje vse elemente inovativnega razvoja in proizvodnje elektronike ter je najpomembnejša platforma za inovacije in svetovne premiere – od tehnologij do programske opreme in storitev: \n  \n\n\n\nPCB in EMS: trdna podlaga za proizvodnjo elektronike\n\nProizvodnja tiskanih vezij\nProizvodnja nosilcev vezij\nStoritve za elektronsko proizvodnjo\n\n\nSMT: prihodnost tehnologije vgradnje komponent je na dosegu roke\n\nPreskusna in merilna tehnologija\, zagotavljanje kakovosti (A1 and A2)\nTehnologija montaže komponent (A2 and A3)\nProizvodna logistika in tehnologija pretoka materiala (A2)\nTehnologija spajkanja in spojitev za PCBs (A4)\nZaključna obdelava izdelka (A4)\n\n\nKabli\, Tuljave in Hibridi: temelj sodobne civilizacije\n\nProizvodnja kablov\nProizvodne tehnologije za konektorje\nProizvodnja navitja\nProizvodnja hibridnih komponent\n\n\nPolprevodniki: ključni element v proizvodnji elektronike\n\nProizvodnja polprevodnikov\nProizvodnja zaslonov\, LED diod in diskretnih komponent\nProizvodnja fotovoltaike\nMikro/nanoproizvodnja / MEMS\nTehnologija čistih prostorov\nObdelava materialov\n\n\nBodoči trgi: sledenje prihodnji proizvodnji\n\nKibernetsko-fizični sistemi\nIndustrija 4.0 v proizvodnji elektronike / pametna tovarna\n3D-tiskanje v proizvodnji elektronike\nOd informacijske tehnologije do proizvodnje\nProizvodne tehnologije za baterije in shranjevanje električne energije\nOrganska in tiskana elektronika\nAditivna proizvodnja\n\n\nSplošna podpora proizvodnji: za popolne rezultate\n\nIzdelki\, ki preprosto poenostavijo vašo proizvodnjo\nStoritve\, ki poenostavljajo vaše vsakodnevno poslovanje\n\n\n\n\n[/vc_column_text][vc_row_inner row_type=”row” type=”full_width” text_align=”left” css_animation=””][vc_column_inner width=”1/5″][/vc_column_inner][vc_column_inner width=”1/4″]NAKUP VSTOPNIC[/vc_column_inner][vc_column_inner width=”1/12″][/vc_column_inner][vc_column_inner width=”1/4″]KAKO PRITI NA SEJEM[/vc_column_inner][vc_column_inner width=”1/5″][/vc_column_inner][/vc_row_inner][vc_empty_space height=”64px”][vc_column_text] \n\n\n\nPridite nas obiskat na sejmu Productronica\n  \nALL DATA EE d.o.o. in ALLdata S.r.l. se bosta udeležila dogodka in vas vabimo\, da nas tam srečate. Z izpolnitvijo spodnjega obrazca lahko rezervirate sestanek z nami na stojnici našega partnerja\, ki vas zanima\, in tako prejmete brezplačno vstopnico. \n[/vc_column_text][vc_empty_space height=”24px”][vc_row_inner row_type=”row” type=”full_width” text_align=”left” css_animation=””][vc_column_inner width=”1/12″][/vc_column_inner][vc_column_inner width=”5/6″][vc_single_image source=”external_link” alignment=”center” onclick=”link_image” qode_css_animation=”” qode_hover_animation=”zoom_in” custom_src=”https://d2n1n6byqxibyi.cloudfront.net/image/933560888063/image_38g91kiihp3u1edmv20pjsf33g/-S2000x2000-FJPG”][/vc_column_inner][vc_column_inner width=”1/12″][/vc_column_inner][/vc_row_inner][vc_empty_space height=”24px”][vc_row_inner row_type=”row” type=”full_width” text_align=”left” row_negative_margin=”disable_negative_margin” css_animation=”” el_class=”outline-box-di grey”][vc_column_inner width=”1/4″][vc_single_image image=”100000845″ img_size=”full” alignment=”center” onclick=”custom_link” img_link_target=”_blank” qode_css_animation=”” qode_hover_animation=”zoom_in” link=”https://acculogic.com/”][/vc_column_inner][vc_column_inner width=”3/4″][vc_column_text] \nFlying-probe test systems\, EV-batterie interconnection test system\, fixture-based MDA/ICT systems\, boundary scan solutions\, In-System programming systems \nA1 . 465 (Main Exhibitor)\nwww.acculogic.com \n[/vc_column_text][/vc_column_inner][/vc_row_inner][vc_row_inner row_type=”row” type=”full_width” text_align=”left” row_negative_margin=”disable_negative_margin” css_animation=”” el_class=”outline-box-di grey”][vc_column_inner width=”1/4″][vc_single_image image=”1000001255″ img_size=”full” alignment=”center” onclick=”custom_link” img_link_target=”_blank” qode_css_animation=”” qode_hover_animation=”zoom_in” link=”https://algocraft.com/”][/vc_column_inner][vc_column_inner width=”3/4″][vc_column_text]In-System Programming (ISP) \nA1 . 235 (Co-Exhibitor)\nwww.algocraft.com \n[/vc_column_text][/vc_column_inner][/vc_row_inner][vc_row_inner row_type=”row” type=”full_width” text_align=”left” row_negative_margin=”disable_negative_margin” css_animation=”” el_class=”outline-box-di grey”][vc_column_inner width=”1/4″][vc_single_image image=”100000792″ img_size=”full” alignment=”center” onclick=”custom_link” img_link_target=”_blank” qode_css_animation=”” qode_hover_animation=”zoom_in” link=”https://aster-technologies.com/en/”][/vc_column_inner][vc_column_inner width=”3/4″][vc_column_text]Bringing digital continuity to the PCBA design and manufacturing industry (Software Tools). \nA1 . 572 (Main Exhibitor)\nwww.aster-technologies.com \n[/vc_column_text][/vc_column_inner][/vc_row_inner][vc_row_inner row_type=”row” type=”full_width” text_align=”left” row_negative_margin=”disable_negative_margin” css_animation=”” el_class=”outline-box-di grey”][vc_column_inner width=”1/4″][vc_single_image image=”1000001195″ img_size=”full” alignment=”center” onclick=”custom_link” img_link_target=”_blank” qode_css_animation=”” qode_hover_animation=”zoom_in” link=”https://www.botron.com/”][/vc_column_inner][vc_column_inner width=”3/4″][vc_column_text] \nBotron Company Inc: 31 Years of Expertise in Static Control Solutions (ESD Protection). \nA1 . 558 (Main Exhibitor)\nwww.botron.com \n[/vc_column_text][/vc_column_inner][/vc_row_inner][vc_row_inner row_type=”row” type=”full_width” text_align=”left” row_negative_margin=”disable_negative_margin” css_animation=”” el_class=”outline-box-di grey”][vc_column_inner width=”1/4″][vc_single_image image=”100000841″ img_size=”full” alignment=”center” onclick=”custom_link” img_link_target=”_blank” qode_css_animation=”” qode_hover_animation=”zoom_in” link=”https://www.chromaate.com/eu/index”][/vc_column_inner][vc_column_inner width=”3/4″][vc_column_text]Cutting-edge Semiconductor Test Solutions. Precision in Measurement & Testing \nA1 . 143 DE (Main Exhibitor)\nB0 . 717 NL (Main Exhibitor)\nwww.chromaate.com \n[/vc_column_text][/vc_column_inner][/vc_row_inner][vc_row_inner row_type=”row” type=”full_width” text_align=”left” row_negative_margin=”disable_negative_margin” css_animation=”” el_class=”outline-box-di grey”][vc_column_inner width=”1/4″][vc_single_image image=”1000001193″ img_size=”full” alignment=”center” onclick=”custom_link” img_link_target=”_blank” qode_css_animation=”” qode_hover_animation=”zoom_in” link=”https://www.dataio.com/”][/vc_column_inner][vc_column_inner width=”3/4″][vc_column_text]Revolutionary Data Programming & Security Provisioning Technology \nA2 . 205 (Main Exhibitor)\nwww.dataio.com \n[/vc_column_text][/vc_column_inner][/vc_row_inner][vc_row_inner row_type=”row” type=”full_width” text_align=”left” row_negative_margin=”disable_negative_margin” css_animation=”” el_class=”outline-box-di grey”][vc_column_inner width=”1/4″][vc_single_image image=”100000787″ img_size=”full” alignment=”center” onclick=”custom_link” img_link_target=”_blank” qode_css_animation=”” qode_hover_animation=”zoom_in” link=”https://delvi.tech/”][/vc_column_inner][vc_column_inner width=”3/4″][vc_column_text]Revolutionary 3D AI based ecosystem: AOI\, SPI\, AOI+SPI \nA2 . 227 (Main Exhibitor)\nwww.delvi.tech \n[/vc_column_text][/vc_column_inner][/vc_row_inner][vc_row_inner row_type=”row” type=”full_width” text_align=”left” row_negative_margin=”disable_negative_margin” css_animation=”” el_class=”outline-box-di grey”][vc_column_inner width=”1/4″][vc_single_image image=”100000835″ img_size=”full” alignment=”center” onclick=”custom_link” img_link_target=”_blank” qode_css_animation=”” qode_hover_animation=”zoom_in” link=”http://www.getecha.com/”][/vc_column_inner][vc_column_inner width=”3/4″][vc_column_text]Experts in automation: PCB production\, Test automation\, Custom solutions. \nA2 . 557 (Co-Exhibitor)\nwww.getecha.com \n[/vc_column_text][/vc_column_inner][/vc_row_inner][vc_row_inner row_type=”row” type=”full_width” text_align=”left” row_negative_margin=”disable_negative_margin” css_animation=”” el_class=”outline-box-di grey”][vc_column_inner width=”1/4″][vc_single_image image=”100000829″ img_size=”full” alignment=”center” onclick=”custom_link” img_link_target=”_blank” qode_css_animation=”” qode_hover_animation=”zoom_in” link=”https://www.japanunix.com/en/”][/vc_column_inner][vc_column_inner width=”3/4″][vc_column_text]Pioneer of robotic soldering system with 50 years experiences. Conventional contact soldering method as well as laser soldering. \nA4 . 305 (Main Exhibitor)\nwww.japanunix.com/en/ \n[/vc_column_text][/vc_column_inner][/vc_row_inner][vc_row_inner row_type=”row” type=”full_width” text_align=”left” row_negative_margin=”disable_negative_margin” css_animation=”” el_class=”outline-box-di grey”][vc_column_inner width=”1/4″][vc_single_image image=”100000830″ img_size=”full” alignment=”center” onclick=”custom_link” img_link_target=”_blank” qode_css_animation=”” qode_hover_animation=”zoom_in” link=”https://www.jtag.com/”][/vc_column_inner][vc_column_inner width=”3/4″][vc_column_text]Boundary-scan products that leverage the test potential. \nA1 . 320 (Main Exhibitor)\nwww.jtag.com \n[/vc_column_text][/vc_column_inner][/vc_row_inner][vc_row_inner row_type=”row” type=”full_width” text_align=”left” row_negative_margin=”disable_negative_margin” css_animation=”” el_class=”outline-box-di grey”][vc_column_inner width=”1/4″][vc_single_image image=”1000001774″ img_size=”full” alignment=”center” onclick=”custom_link” img_link_target=”_blank” qode_css_animation=”” qode_hover_animation=”zoom_in” link=”https://www.rohde-schwarz.com/”][/vc_column_inner][vc_column_inner width=”3/4″][vc_column_text]Innovative test & measurement solutions. Founded 90 years ago\, the group is a reliable partner for industry and government customers around the globe. \nA1 . 375 (Main Exhibitor)\nwww.rohde-schwarz.com \n[/vc_column_text][/vc_column_inner][/vc_row_inner][vc_row_inner row_type=”row” type=”full_width” text_align=”left” row_negative_margin=”disable_negative_margin” css_animation=”” el_class=”outline-box-di grey”][vc_column_inner width=”1/4″][vc_single_image image=”100000814″ img_size=”full” alignment=”center” onclick=”custom_link” img_link_target=”_blank” qode_css_animation=”” qode_hover_animation=”zoom_in” link=”https://www.teradyne.com/”][/vc_column_inner][vc_column_inner width=”3/4″][vc_column_text]Test & automation solutions for electronic manufacturers: ICT PCBA test\, Semiconductor test\, Wireless test. \nA1 . 345 (Main Exhibitor)\nwww.teradyne.com \n[/vc_column_text][/vc_column_inner][/vc_row_inner][vc_column_text][vc_row css_animation=”” row_type=”row” use_row_as_full_screen_section=”no” type=”full_width” angled_section=”no” text_align=”left” background_image_as_pattern=”without_pattern” z_index=”” anchor=”Booking” el_class=”page-break-before-always”][vc_column css=”.vc_custom_1453889024587{margin-bottom: 35px !important;}”][vc_empty_space height=”24px”][vc_separator type=”small” position=”center” color=”#f58220″][vc_empty_space height=”12px”][vc_column_text] \nREZERVIRAJTE SESTANEK / OBISK\n[/vc_column_text][vc_separator type=”normal”][vc_column_text]\n	Notice: JavaScript is required for this content.\n\n\n    \n\n\n        \n        \n        [/vc_column_text][/vc_column][/vc_row] \n[/vc_column_text][/vc_column][/vc_row]
URL:https://www.alldataee.com/sl/dogodki/productronica-munich-2023-sl/
LOCATION:Messe München GmbH\, Am Messesee 2\, München\, 81829\, Germany
CATEGORIES:Rrazstave,Srečanja
ATTACH;FMTTYPE=:
ORGANIZER;CN="Messe M%C3%BCnchen GmbH":MAILTO:info@messe-muenchen.de
END:VEVENT
END:VCALENDAR