BEGIN:VCALENDAR
VERSION:2.0
PRODID:-//ALL DATA EE d.o.o. - ECPv6.15.20//NONSGML v1.0//EN
CALSCALE:GREGORIAN
METHOD:PUBLISH
X-WR-CALNAME:ALL DATA EE d.o.o.
X-ORIGINAL-URL:https://www.alldataee.com
X-WR-CALDESC:Dogodki za ALL DATA EE d.o.o.
REFRESH-INTERVAL;VALUE=DURATION:PT1H
X-Robots-Tag:noindex
X-PUBLISHED-TTL:PT1H
BEGIN:VTIMEZONE
TZID:Europe/Rome
BEGIN:DAYLIGHT
TZOFFSETFROM:+0100
TZOFFSETTO:+0200
TZNAME:CEST
DTSTART:20220327T010000
END:DAYLIGHT
BEGIN:STANDARD
TZOFFSETFROM:+0200
TZOFFSETTO:+0100
TZNAME:CET
DTSTART:20221030T010000
END:STANDARD
BEGIN:DAYLIGHT
TZOFFSETFROM:+0100
TZOFFSETTO:+0200
TZNAME:CEST
DTSTART:20230326T010000
END:DAYLIGHT
BEGIN:STANDARD
TZOFFSETFROM:+0200
TZOFFSETTO:+0100
TZNAME:CET
DTSTART:20231029T010000
END:STANDARD
BEGIN:DAYLIGHT
TZOFFSETFROM:+0100
TZOFFSETTO:+0200
TZNAME:CEST
DTSTART:20240331T010000
END:DAYLIGHT
BEGIN:STANDARD
TZOFFSETFROM:+0200
TZOFFSETTO:+0100
TZNAME:CET
DTSTART:20241027T010000
END:STANDARD
END:VTIMEZONE
BEGIN:VEVENT
DTSTART;TZID=Europe/Rome:20231020T100000
DTEND;TZID=Europe/Rome:20231022T190000
DTSTAMP:20260424T192643
CREATED:20230801T100031Z
LAST-MODIFIED:20231003T082846Z
UID:14361-1697796000-1698001200@www.alldataee.com
SUMMARY:#MFR2023 - Maker Faire v Rimu - Evropska izvedba
DESCRIPTION:[vc_row css_animation=”” row_type=”row” use_row_as_full_screen_section=”no” type=”full_width” angled_section=”no” text_align=”left” background_image_as_pattern=”without_pattern”][vc_column][vc_empty_space height=”36px”][vc_column_text] \n“Maker Faire Rome – The European Edition” je najpomembnejši dogodek na področju inovacij v Italiji in Evropi\, ki nosi prestižni naziv Global Maker Faire. Projekt spodbuja Gospodarska zbornica v Rimu\, organizira pa ga njena notranja enota Innova Camera (posebna agencija\, namenjena inovacijam in razvoju podjetniškega sistema) z licenco podjetja Make Co. \nMaker Faire Rome 2023\, na svoji 11. izdaji\, bo potekal od 20. do 22. oktobra na razstavišču Fiera di Roma in bo še bogatejši za inovacije: od digitalne proizvodnje do interneta stvari\, od robotike do umetne inteligence\, od krožnega gospodarstva do agritech-a\, od digitalne proizvodnje do e-športa prek big data in aerospace do najnovejših odkritij metaverse in razširjene resničnosti. \nKer je sejem Maker Faire Rome odlična priložnost za vzpostavitev poslovnih odnosov\, bodo letos razstavljavci in obiskovalci lahko računali na posebno platformo za povezovanje: novo orodje za “križanje” ponudbe in povpraševanja po inovacijah\, izdelkih in/ali storitvah ter spodbujanje in gojenje poslovnih priložnosti\, ki se lahko pojavijo. \n>>> Spoznajte glavne teme #MFR2023![/vc_column_text][vc_empty_space height=”36px”][vc_column_text] \nObiskovalci in Vstopnice\nVstopnice bo od septembra mogoče kupiti prek spletišča dogodka. \n[/vc_column_text][vc_empty_space height=”36px”][vc_column_text] \nALL DATA EE\nALL DATA bo kot običajno razstavljala na sejmu in vas vabi\, da se z nami srečate v Rimu:  HALA 3\,  Stojnica A02. \n[/vc_column_text][vc_empty_space height=”36px”][/vc_column][/vc_row]
URL:https://www.alldataee.com/sl/dogodki/mfr2023-maker-faire-v-rimu-evropska-izvedba/
LOCATION:Fiera Roma Srl\, Via Portuense\, 1645/1647\, Roma\, (RM)\, 00148\, Italy
CATEGORIES:Konference,Rrazstave
ATTACH;FMTTYPE=:
ORGANIZER;CN="INNOVA CAMERA - Chamber of Commerce Rome":MAILTO:info@innovacamera.it
END:VEVENT
END:VCALENDAR