BEGIN:VCALENDAR
VERSION:2.0
PRODID:-//ALL DATA EE d.o.o. - ECPv6.15.20//NONSGML v1.0//EN
CALSCALE:GREGORIAN
METHOD:PUBLISH
X-WR-CALNAME:ALL DATA EE d.o.o.
X-ORIGINAL-URL:https://www.alldataee.com
X-WR-CALDESC:Dogodki za ALL DATA EE d.o.o.
REFRESH-INTERVAL;VALUE=DURATION:PT1H
X-Robots-Tag:noindex
X-PUBLISHED-TTL:PT1H
BEGIN:VTIMEZONE
TZID:Europe/Ljubljana
BEGIN:DAYLIGHT
TZOFFSETFROM:+0100
TZOFFSETTO:+0200
TZNAME:CEST
DTSTART:20220327T010000
END:DAYLIGHT
BEGIN:STANDARD
TZOFFSETFROM:+0200
TZOFFSETTO:+0100
TZNAME:CET
DTSTART:20221030T010000
END:STANDARD
BEGIN:DAYLIGHT
TZOFFSETFROM:+0100
TZOFFSETTO:+0200
TZNAME:CEST
DTSTART:20230326T010000
END:DAYLIGHT
BEGIN:STANDARD
TZOFFSETFROM:+0200
TZOFFSETTO:+0100
TZNAME:CET
DTSTART:20231029T010000
END:STANDARD
BEGIN:DAYLIGHT
TZOFFSETFROM:+0100
TZOFFSETTO:+0200
TZNAME:CEST
DTSTART:20240331T010000
END:DAYLIGHT
BEGIN:STANDARD
TZOFFSETFROM:+0200
TZOFFSETTO:+0100
TZNAME:CET
DTSTART:20241027T010000
END:STANDARD
END:VTIMEZONE
BEGIN:VEVENT
DTSTART;VALUE=DATE:20230307
DTEND;VALUE=DATE:20230310
DTSTAMP:20260424T183518
CREATED:20221228T100428Z
LAST-MODIFIED:20231216T095933Z
UID:12233-1678147200-1678406399@www.alldataee.com
SUMMARY:IFAM 2023
DESCRIPTION:IFAM je edini B2B sejem za avtomatizacijo\, mehatroniko\, senzoriko\, merilno tehniko … v Sloveniji in regiji CEE. Dogodek združuje vse ključne tehnologije na enem mestu in je osredotočen na izpolnjevanje potreb strokovnih obiskovalcev. \nIFAM 2020 – FACTS & FIGURES \n[vc_empty_space][vc_single_image image=”1000001149″ img_size=”full” alignment=”center” onclick=”custom_link” img_link_target=”_blank” qode_css_animation=”” qode_hover_animation=”zoom_in” link=”https://icm.si/events/ifam-2023-slovenia-ljubljana/”][vc_empty_space]
URL:https://www.alldataee.com/sl/dogodki/ifam-2023-sl/
LOCATION:Ljubljana Exhibition and Convention Center\, Dunajska cesta 18\, Ljubljana\, (LJ)\, 1000\, Slovenia
CATEGORIES:Rrazstave
ATTACH;FMTTYPE=:
ORGANIZER;CN="ICM":MAILTO:info@icm.si
END:VEVENT
END:VCALENDAR