BEGIN:VCALENDAR
VERSION:2.0
PRODID:-//ALL DATA EE d.o.o. - ECPv6.15.20//NONSGML v1.0//EN
CALSCALE:GREGORIAN
METHOD:PUBLISH
X-WR-CALNAME:ALL DATA EE d.o.o.
X-ORIGINAL-URL:https://www.alldataee.com
X-WR-CALDESC:Dogodki za ALL DATA EE d.o.o.
REFRESH-INTERVAL;VALUE=DURATION:PT1H
X-Robots-Tag:noindex
X-PUBLISHED-TTL:PT1H
BEGIN:VTIMEZONE
TZID:Europe/Ljubljana
BEGIN:DAYLIGHT
TZOFFSETFROM:+0100
TZOFFSETTO:+0200
TZNAME:CEST
DTSTART:20240331T010000
END:DAYLIGHT
BEGIN:STANDARD
TZOFFSETFROM:+0200
TZOFFSETTO:+0100
TZNAME:CET
DTSTART:20241027T010000
END:STANDARD
BEGIN:DAYLIGHT
TZOFFSETFROM:+0100
TZOFFSETTO:+0200
TZNAME:CEST
DTSTART:20250330T010000
END:DAYLIGHT
BEGIN:STANDARD
TZOFFSETFROM:+0200
TZOFFSETTO:+0100
TZNAME:CET
DTSTART:20251026T010000
END:STANDARD
BEGIN:DAYLIGHT
TZOFFSETFROM:+0100
TZOFFSETTO:+0200
TZNAME:CEST
DTSTART:20260329T010000
END:DAYLIGHT
BEGIN:STANDARD
TZOFFSETFROM:+0200
TZOFFSETTO:+0100
TZNAME:CET
DTSTART:20261025T010000
END:STANDARD
END:VTIMEZONE
BEGIN:VEVENT
DTSTART;TZID=Europe/Ljubljana:20250408T090000
DTEND;TZID=Europe/Ljubljana:20250408T170000
DTSTAMP:20260423T133528
CREATED:20250314T113020Z
LAST-MODIFIED:20250402T222518Z
UID:16940-1744102800-1744131600@www.alldataee.com
SUMMARY:Automotive Testing Seminar (Gradec\, Avstrija)
DESCRIPTION:[vc_row css_animation=”” row_type=”row” use_row_as_full_screen_section=”no” type=”full_width” angled_section=”no” text_align=”left” background_image_as_pattern=”without_pattern”][vc_column][vc_empty_space height=”24px”][vc_column_text css=””] \nPridružite se nam na brezplačnem seminarju o testiranju v avtomobilski industriji\, ki ga bo 8. aprila v hotelu NOVAPARK Flugzeughotel v Gradcu organiziral naš partner Rohde & Schwarz (Avstrija). \nPreživite dan\, v katerem se boste seznanili z novimi izzivi in rešitvami za avtomobilsko testiranje\, tako v teoriji kot v praksi\, z uporabo instrumentov R&S\, ki bodo prisotni na dogodku. \n\n\n\nDatum: 8. april 2025\nUrnik: 09.00 – 17.00\nJezik: angleščina\n\n\n\n\nPrijavite se takoj in si rezervirajte mesto\, število mest je omejeno. \n[/vc_column_text][vc_empty_space height=”24px”]Podrobnejše informacijeRegistracija[vc_empty_space height=”48px”][vc_row_inner row_type=”row” type=”full_width” text_align=”left” css_animation=””][vc_column_inner][vc_column_text css=””] \nDnevni red\n[/vc_column_text][vc_empty_space height=”12px”][vc_column_text css=””] \n\n\nTorek\, 08.04.2025\n\n\n\n\n\n\n\nTime (CET)\nTitle\nPresenter\n\n\n\n\n08:30\n09:00\nRegistration\nRohde & Schwarz\n\n\n09:00\n09:15\nWelcome &  introduction\nRohde & Schwarz\n\n\n09:15\n10:00\nThe evolution of In-Vehicle Networks and Automotive Ethernet\nOPEN Alliance Channel Component and ECU Test using Oscilloscopes and VNAs\nRohde & Schwarz\n\n\n10:00\n10:45\nTraction Inverter testing\, verification and debugging for optimized efficiency\nRohde & Schwarz\n\n\n10:45\n11:00\nPause\n\n\n\n11:00\n12:00\nUltra-Wideband technology – new trends\nRohde & Schwarz\n\n\n12:00\n13:00\nLunchbreak\n\n\n\n13:00\n13:45\nSpherical nearfield antenna measurement also for automotive segment\nRohde & Schwarz\n\n\n13:45\n14:00\nPause\n\n\n\n14:00\n14:45\nThe RadEsT compact radar target simulator\nYour all-rounder from lab to vehicle\nRohde & Schwarz\n\n\n14:45\n17:00\nClosing remarks\nNetworking & device demonstrations\nRohde & Schwarz\n\n\n\n\n\n\n[/vc_column_text][vc_empty_space height=”48px”][/vc_column_inner][/vc_row_inner][/vc_column][/vc_row]
URL:https://www.alldataee.com/sl/dogodki/automotive-testing-seminar-gradec-avstrija/
LOCATION:NOVAPARK Flugzeughotel Graz\, Austria\, Fischeraustraße 22\, Graz\, 8051\, Austria
CATEGORIES:Spletni seminarji
ATTACH;FMTTYPE=:
ORGANIZER;CN="Rohde & Schwarz %C3%96sterreich Gesellschaft m.b.H.":MAILTO:rs-austria@rohde-schwarz.com
END:VEVENT
END:VCALENDAR