BEGIN:VCALENDAR
VERSION:2.0
PRODID:-//ALL DATA EE d.o.o. - ECPv6.15.20//NONSGML v1.0//EN
CALSCALE:GREGORIAN
METHOD:PUBLISH
X-WR-CALNAME:ALL DATA EE d.o.o.
X-ORIGINAL-URL:https://www.alldataee.com
X-WR-CALDESC:Events for ALL DATA EE d.o.o.
REFRESH-INTERVAL;VALUE=DURATION:PT1H
X-Robots-Tag:noindex
X-PUBLISHED-TTL:PT1H
BEGIN:VTIMEZONE
TZID:Europe/Rome
BEGIN:DAYLIGHT
TZOFFSETFROM:+0100
TZOFFSETTO:+0200
TZNAME:CEST
DTSTART:20240331T010000
END:DAYLIGHT
BEGIN:STANDARD
TZOFFSETFROM:+0200
TZOFFSETTO:+0100
TZNAME:CET
DTSTART:20241027T010000
END:STANDARD
BEGIN:DAYLIGHT
TZOFFSETFROM:+0100
TZOFFSETTO:+0200
TZNAME:CEST
DTSTART:20250330T010000
END:DAYLIGHT
BEGIN:STANDARD
TZOFFSETFROM:+0200
TZOFFSETTO:+0100
TZNAME:CET
DTSTART:20251026T010000
END:STANDARD
BEGIN:DAYLIGHT
TZOFFSETFROM:+0100
TZOFFSETTO:+0200
TZNAME:CEST
DTSTART:20260329T010000
END:DAYLIGHT
BEGIN:STANDARD
TZOFFSETFROM:+0200
TZOFFSETTO:+0100
TZNAME:CET
DTSTART:20261025T010000
END:STANDARD
END:VTIMEZONE
BEGIN:VEVENT
DTSTART;TZID=Europe/Rome:20251017T100000
DTEND;TZID=Europe/Rome:20251019T190000
DTSTAMP:20260416T123555
CREATED:20250901T100031Z
LAST-MODIFIED:20251008T154936Z
UID:17250-1760695200-1760900400@www.alldataee.com
SUMMARY:#MFR2025 - Maker Faire Rome - The European edition (booth H.23 - H.24)
DESCRIPTION:[vc_row css_animation=”” row_type=”row” use_row_as_full_screen_section=”no” type=”full_width” angled_section=”no” text_align=”left” background_image_as_pattern=”without_pattern”][vc_column][vc_empty_space height=”36px”][vc_row_inner row_type=”row” type=”full_width” text_align=”left” css_animation=””][vc_column_inner width=”1/4″][vc_single_image image=”1000002498″ alignment=”center” onclick=”link_image” css=”” qode_css_animation=”” qode_hover_animation=”zoom_in”][/vc_column_inner][vc_column_inner width=”3/4″][vc_column_text css=””] \n“Maker Faire Rome – The European Edition” is the premier event for innovation in Italy and Europe\, holding the prestigious title of Global Maker Faire. The project is promoted by the Rome Chamber of Commerce and organized by its internal unit Innova Camera (a Special Agency dedicated to innovation and entrepreneurial system development) under licence from Make Co. \n[/vc_column_text][/vc_column_inner][/vc_row_inner][vc_column_text css=””] \n#MakerFaireRome 2025\, at its 13th edition\, will be held from October 17th to 19th at Gazometro Ostiense in Rome\, even richer in innovation: from Digital Manufacturing to the Internet of Things (IoT) and Electronics\, from Robotics to Artificial Intelligence (AI)\, from the Circular Economy to Agritech via Big Data and Aerospace\, Mobility and Drones\, Smart Citiesm\, Smart Robotics and e-Sports up to the latest discoveries of the metaverse and augmented reality. And of course EDUCATION. \nMaker Faire Rome is a great opportunity to establish business relationships. \n>>> Would you like to learn more? Follow this link![/vc_column_text][vc_empty_space height=”36px”][vc_column_text css=””] \nVisitors and Tickets\nThe tickets will be available for purchase online on event’s website. \n[/vc_column_text][vc_empty_space height=”36px”][vc_column_text css=””] \nALL DATA EE\nAs usual ALL DATA EE will exhibit at the faire and invite all of you to meet us in Rome at #MFR2025 booth H.23 – H.24. \n[/vc_column_text][vc_empty_space height=”24px”][vc_row_inner row_type=”row” type=”full_width” text_align=”left” css_animation=””][vc_column_inner width=”1/12″][/vc_column_inner][vc_column_inner width=”5/6″][vc_gallery interval=”3″ images=”1000002303\,1000002304\,1000002331\,1000002332″ img_size=”full” onclick=”custom_link” css_animation=”none” css=”” direction_nav=”no” control_nav=”no” pause_on_hover=”no” custom_links=”#E-8_aHR0cHMlM0ElMkYlMkZ3d3cuYWxsZGF0YWVlLmNvbSUyRmVuJTJGbmV3cyUyRm1mcjIwMjQtbWFrZXItZmFpcmUtcm9tZS10aGFuay15b3UtYWxsJTJGJTJDaHR0cHMlM0ElMkYlMkZ3d3cuYWxsZGF0YWVlLmNvbSUyRmVuJTJGbmV3cyUyRm1mcjIwMjQtbWFrZXItZmFpcmUtcm9tZS10aGFuay15b3UtYWxsJTJGJTJDaHR0cHMlM0ElMkYlMkZ3d3cuYWxsZGF0YWVlLmNvbSUyRmVuJTJGbmV3cyUyRm1mcjIwMjQtbWFrZXItZmFpcmUtcm9tZS10aGFuay15b3UtYWxsJTJGJTJDaHR0cHMlM0ElMkYlMkZ3d3cuYWxsZGF0YWVlLmNvbSUyRmVuJTJGbmV3cyUyRm1mcjIwMjQtbWFrZXItZmFpcmUtcm9tZS10aGFuay15b3UtYWxsJTJG”][vc_column_text css=””] \nSome excerpts from the last edition (#MFR2024) \n[/vc_column_text][/vc_column_inner][vc_column_inner width=”1/12″][/vc_column_inner][/vc_row_inner][vc_empty_space height=”24px”][vc_single_image image=”1000002497″ img_size=”large” alignment=”center” onclick=”custom_link” img_link_target=”_blank” css=”” qode_css_animation=”” qode_hover_animation=”zoom_in” link=”https://makerfairerome.eu/en/map/”][vc_empty_space height=”12px”][/vc_column][/vc_row]
URL:https://www.alldataee.com/en/events/mfr2025-maker-faire-rome-the-european-edition/
LOCATION:Gazometro Ostiense\, Via del Commercio\, 9-11\, Roma\, (RM)\, 00154\, Italy
CATEGORIES:Conferences,Exhibitions
ATTACH;FMTTYPE=:
ORGANIZER;CN="INNOVA CAMERA - Chamber of Commerce Rome":MAILTO:info@innovacamera.it
END:VEVENT
END:VCALENDAR