BEGIN:VCALENDAR
VERSION:2.0
PRODID:-//ALL DATA EE d.o.o. - ECPv6.15.20//NONSGML v1.0//EN
CALSCALE:GREGORIAN
METHOD:PUBLISH
X-WR-CALNAME:ALL DATA EE d.o.o.
X-ORIGINAL-URL:https://www.alldataee.com
X-WR-CALDESC:Events for ALL DATA EE d.o.o.
REFRESH-INTERVAL;VALUE=DURATION:PT1H
X-Robots-Tag:noindex
X-PUBLISHED-TTL:PT1H
BEGIN:VTIMEZONE
TZID:Europe/Ljubljana
BEGIN:DAYLIGHT
TZOFFSETFROM:+0100
TZOFFSETTO:+0200
TZNAME:CEST
DTSTART:20240331T010000
END:DAYLIGHT
BEGIN:STANDARD
TZOFFSETFROM:+0200
TZOFFSETTO:+0100
TZNAME:CET
DTSTART:20241027T010000
END:STANDARD
BEGIN:DAYLIGHT
TZOFFSETFROM:+0100
TZOFFSETTO:+0200
TZNAME:CEST
DTSTART:20250330T010000
END:DAYLIGHT
BEGIN:STANDARD
TZOFFSETFROM:+0200
TZOFFSETTO:+0100
TZNAME:CET
DTSTART:20251026T010000
END:STANDARD
BEGIN:DAYLIGHT
TZOFFSETFROM:+0100
TZOFFSETTO:+0200
TZNAME:CEST
DTSTART:20260329T010000
END:DAYLIGHT
BEGIN:STANDARD
TZOFFSETFROM:+0200
TZOFFSETTO:+0100
TZNAME:CET
DTSTART:20261025T010000
END:STANDARD
END:VTIMEZONE
BEGIN:VEVENT
DTSTART;VALUE=DATE:20250211
DTEND;VALUE=DATE:20250214
DTSTAMP:20260423T174934
CREATED:20240531T103028Z
LAST-MODIFIED:20251003T130002Z
UID:16017-1739232000-1739491199@www.alldataee.com
SUMMARY:IFAM 2025
DESCRIPTION:IFAM is the only B2B Trade Fair for automation\, mechatronics\, sensor technology\, measurement technologies… in Slovenia and the CEE region. The event brings all key technologies together in one place and is focused on fulfilling the needs of the professional visitors. \nIFAM 2018-2023 – FACTS & FIGURES \nLike for latest edition\, we trust to see you numerous there (Booth A2-602). \n  \nTo avoid queues at the entrance (and save 15€) register yourself using this link and insert “ALL DATA EE d.o.o.” in the field ‘Keyword (Klučna beseda)‘ during registration process. \n  \n[vc_empty_space height=”24px”][vc_single_image image=”1000002257″ img_size=”full” alignment=”center” onclick=”custom_link” img_link_target=”_blank” qode_css_animation=”” qode_hover_animation=”zoom_in” link=”https://icm.si/events/ifam-2025-slovenia-ljubljana/”][vc_empty_space]
URL:https://www.alldataee.com/en/events/ifam-2025/
LOCATION:Ljubljana Exhibition and Convention Center\, Dunajska cesta 18\, Ljubljana\, (LJ)\, 1000\, Slovenia
CATEGORIES:Exhibitions
ATTACH;FMTTYPE=:
ORGANIZER;CN="ICM":MAILTO:info@icm.si
END:VEVENT
END:VCALENDAR