BEGIN:VCALENDAR
VERSION:2.0
PRODID:-//ALL DATA EE d.o.o. - ECPv6.15.20//NONSGML v1.0//EN
CALSCALE:GREGORIAN
METHOD:PUBLISH
X-WR-CALNAME:ALL DATA EE d.o.o.
X-ORIGINAL-URL:https://www.alldataee.com
X-WR-CALDESC:Events for ALL DATA EE d.o.o.
REFRESH-INTERVAL;VALUE=DURATION:PT1H
X-Robots-Tag:noindex
X-PUBLISHED-TTL:PT1H
BEGIN:VTIMEZONE
TZID:Europe/Ljubljana
BEGIN:DAYLIGHT
TZOFFSETFROM:+0100
TZOFFSETTO:+0200
TZNAME:CEST
DTSTART:20240331T010000
END:DAYLIGHT
BEGIN:STANDARD
TZOFFSETFROM:+0200
TZOFFSETTO:+0100
TZNAME:CET
DTSTART:20241027T010000
END:STANDARD
BEGIN:DAYLIGHT
TZOFFSETFROM:+0100
TZOFFSETTO:+0200
TZNAME:CEST
DTSTART:20250330T010000
END:DAYLIGHT
BEGIN:STANDARD
TZOFFSETFROM:+0200
TZOFFSETTO:+0100
TZNAME:CET
DTSTART:20251026T010000
END:STANDARD
BEGIN:DAYLIGHT
TZOFFSETFROM:+0100
TZOFFSETTO:+0200
TZNAME:CEST
DTSTART:20260329T010000
END:DAYLIGHT
BEGIN:STANDARD
TZOFFSETFROM:+0200
TZOFFSETTO:+0100
TZNAME:CET
DTSTART:20261025T010000
END:STANDARD
END:VTIMEZONE
BEGIN:VEVENT
DTSTART;TZID=Europe/Ljubljana:20250521T090000
DTEND;TZID=Europe/Ljubljana:20250522T170000
DTSTAMP:20260415T095313
CREATED:20250426T103058Z
LAST-MODIFIED:20250508T142416Z
UID:17004-1747818000-1747933200@www.alldataee.com
SUMMARY:Focus On PCB - Vicenza 2025
DESCRIPTION:[vc_row css_animation=”” row_type=”row” use_row_as_full_screen_section=”no” type=”full_width” angled_section=”no” text_align=”left” background_image_as_pattern=”without_pattern”][vc_column][vc_column_text] \nThe world of printed circuit boards meets at Fiera Vicenza\nThe only exhibition in Europe fully dedicated to the PCB industry\n[/vc_column_text][vc_empty_space height=”24px”][vc_column_text css=””] \nFocus on PCB is the only European B2B event fully dedicated to the world of PCB\, PCBA and EMS. An unmissable opportunity to meet\, compare and share ideas for all operators in the PCB supply chain\, from designers to end users\, who need to be updated on the latest news in this sector.\nA premium suite of conferences and forums will be organized with key industry players and experts\, to thoroughly analyze the characteristics and potential of a rapidly expanding market. There are in fact many sectors that use printed circuit boards\, from medical\, aerospace and automotive to renewable energy and environmentally friendly systems.\nFocus on PCBs will enable PCB users to get an overview of the companies that produce and assemble them\, while engineers and designers\, always on the lookout for innovative solutions\, will boost their know-how through the many workshops and technical seminars that will flank the exhibition area. \nDo you design or manufacture products that require the use of printed circuit boards? Are you part of the PCB-PCBA-EMS manufacturing supply chain?\nVisit us! At out boot you will discover the outstanding 3D-AOI\, FPT\, 3D-SPI\, BST and FCT products from our portfolio along with EMI debug and (pre)compliance analysis T&M equipment. \n[/vc_column_text][vc_empty_space height=”24px”][vc_row_inner row_type=”row” type=”full_width” text_align=”center” css_animation=””][vc_column_inner]Get your ticket[/vc_column_inner][/vc_row_inner][vc_empty_space height=”48px”][vc_single_image image=”1000002418″ img_size=”full” alignment=”center” onclick=”custom_link” img_link_target=”_blank” css=”” qode_css_animation=”” link=”https://focusonpcb.it/en/home_en/”][/vc_column][/vc_row]
URL:https://www.alldataee.com/en/events/focus-on-pcb-vicenza-2025/
LOCATION:Polo Fieristico Vicenza\, Viale degli Scaligeri 13\, Vicenza\, (VI)\, 36100\, Italy
CATEGORIES:Conferences,Exhibitions
ATTACH;FMTTYPE=:
END:VEVENT
END:VCALENDAR