BEGIN:VCALENDAR
VERSION:2.0
PRODID:-//ALL DATA EE d.o.o. - ECPv6.15.20//NONSGML v1.0//EN
CALSCALE:GREGORIAN
METHOD:PUBLISH
X-WR-CALNAME:ALL DATA EE d.o.o.
X-ORIGINAL-URL:https://www.alldataee.com
X-WR-CALDESC:Events for ALL DATA EE d.o.o.
REFRESH-INTERVAL;VALUE=DURATION:PT1H
X-Robots-Tag:noindex
X-PUBLISHED-TTL:PT1H
BEGIN:VTIMEZONE
TZID:Europe/London
BEGIN:DAYLIGHT
TZOFFSETFROM:+0000
TZOFFSETTO:+0100
TZNAME:BST
DTSTART:20180325T010000
END:DAYLIGHT
BEGIN:STANDARD
TZOFFSETFROM:+0100
TZOFFSETTO:+0000
TZNAME:GMT
DTSTART:20181028T010000
END:STANDARD
BEGIN:DAYLIGHT
TZOFFSETFROM:+0000
TZOFFSETTO:+0100
TZNAME:BST
DTSTART:20190331T010000
END:DAYLIGHT
BEGIN:STANDARD
TZOFFSETFROM:+0100
TZOFFSETTO:+0000
TZNAME:GMT
DTSTART:20191027T010000
END:STANDARD
BEGIN:DAYLIGHT
TZOFFSETFROM:+0000
TZOFFSETTO:+0100
TZNAME:BST
DTSTART:20200329T010000
END:DAYLIGHT
BEGIN:STANDARD
TZOFFSETFROM:+0100
TZOFFSETTO:+0000
TZNAME:GMT
DTSTART:20201025T010000
END:STANDARD
END:VTIMEZONE
BEGIN:VEVENT
DTSTART;TZID=Europe/London:20190425T103000
DTEND;TZID=Europe/London:20190425T160000
DTSTAMP:20260424T200646
CREATED:20190418T100006Z
LAST-MODIFIED:20230108T174818Z
UID:12476-1556188200-1556208000@www.alldataee.com
SUMMARY:Features and Usage of the New 8100 Advanced Multimeter
DESCRIPTION:We are pleased to announce that we will be holding a webinar on the 25th April 2019 (10:30AM BST / 04:00PM BST) covering features and usage of the new 8100 Advanced Multimeter. \nIn this webinar\, we will cover the advanced functionality and operation modes of the 8100 Advanced Multimeter including performing measurements with these special functions. These types of measurements are common in calibration laboratories but often require additional equipment in order to perform\, with 8104 these functions are specifically designed to reduce the time and high costs for these measurements. \nTo sign up for either session please click here – https://register.gotowebinar.com/rt/2799086522618827020
URL:https://www.alldataee.com/en/events/features-and-usage-of-the-new-8100-advanced-multimeter/
CATEGORIES:Webinars
ATTACH;FMTTYPE=:
ORGANIZER;CN="Transmille Ltd":MAILTO:sales@transmille.com
END:VEVENT
END:VCALENDAR