BEGIN:VCALENDAR
VERSION:2.0
PRODID:-//ALL DATA EE d.o.o. - ECPv6.15.20//NONSGML v1.0//EN
CALSCALE:GREGORIAN
METHOD:PUBLISH
X-WR-CALNAME:ALL DATA EE d.o.o.
X-ORIGINAL-URL:https://www.alldataee.com
X-WR-CALDESC:Events for ALL DATA EE d.o.o.
REFRESH-INTERVAL;VALUE=DURATION:PT1H
X-Robots-Tag:noindex
X-PUBLISHED-TTL:PT1H
BEGIN:VTIMEZONE
TZID:Europe/Berlin
BEGIN:DAYLIGHT
TZOFFSETFROM:+0100
TZOFFSETTO:+0200
TZNAME:CEST
DTSTART:20210328T010000
END:DAYLIGHT
BEGIN:STANDARD
TZOFFSETFROM:+0200
TZOFFSETTO:+0100
TZNAME:CET
DTSTART:20211031T010000
END:STANDARD
BEGIN:DAYLIGHT
TZOFFSETFROM:+0100
TZOFFSETTO:+0200
TZNAME:CEST
DTSTART:20220327T010000
END:DAYLIGHT
BEGIN:STANDARD
TZOFFSETFROM:+0200
TZOFFSETTO:+0100
TZNAME:CET
DTSTART:20221030T010000
END:STANDARD
BEGIN:DAYLIGHT
TZOFFSETFROM:+0100
TZOFFSETTO:+0200
TZNAME:CEST
DTSTART:20230326T010000
END:DAYLIGHT
BEGIN:STANDARD
TZOFFSETFROM:+0200
TZOFFSETTO:+0100
TZNAME:CET
DTSTART:20231029T010000
END:STANDARD
END:VTIMEZONE
BEGIN:VEVENT
DTSTART;TZID=Europe/Berlin:20221115T090000
DTEND;TZID=Europe/Berlin:20221118T170000
DTSTAMP:20260422T150853
CREATED:20221010T100025Z
LAST-MODIFIED:20251003T123525Z
UID:12560-1668502800-1668790800@www.alldataee.com
SUMMARY:electronica Munich 2022
DESCRIPTION:The entire world of electronics\n\n\n\n\n\nA transparent structure for an optimum overview: electronica showcases the complete range of technologies\, products and solutions in the entire electronics industry\, broken down into the following exhibition sectors: \n\n\n\n\n\n\n\n\nAutomotive\nDisplays\nElectromechanics and system periphery\nElectronic design (ED/EDA)\nEmbedded systems\nElectronic manufacturing services (EMS)\nSemiconductors\nPCBs and other circuit carriers\nTest and measurement\nMicro- and nanosystems\nPassive components\nSensor technology\nServices\nPower supplies\nSystem components/Assemblies and subsystems\nWireless
URL:https://www.alldataee.com/en/events/electronica-munich-2022/
LOCATION:Messe München GmbH\, Am Messesee 2\, München\, 81829\, Germany
CATEGORIES:Exhibitions,Meetings
ATTACH;FMTTYPE=:
ORGANIZER;CN="Messe M%C3%BCnchen GmbH":MAILTO:info@messe-muenchen.de
END:VEVENT
END:VCALENDAR