BEGIN:VCALENDAR
VERSION:2.0
PRODID:-//ALL DATA EE d.o.o. - ECPv6.15.20//NONSGML v1.0//EN
CALSCALE:GREGORIAN
METHOD:PUBLISH
X-WR-CALNAME:ALL DATA EE d.o.o.
X-ORIGINAL-URL:https://www.alldataee.com
X-WR-CALDESC:Events for ALL DATA EE d.o.o.
REFRESH-INTERVAL;VALUE=DURATION:PT1H
X-Robots-Tag:noindex
X-PUBLISHED-TTL:PT1H
BEGIN:VTIMEZONE
TZID:Europe/Rome
BEGIN:DAYLIGHT
TZOFFSETFROM:+0100
TZOFFSETTO:+0200
TZNAME:CEST
DTSTART:20220327T010000
END:DAYLIGHT
BEGIN:STANDARD
TZOFFSETFROM:+0200
TZOFFSETTO:+0100
TZNAME:CET
DTSTART:20221030T010000
END:STANDARD
BEGIN:DAYLIGHT
TZOFFSETFROM:+0100
TZOFFSETTO:+0200
TZNAME:CEST
DTSTART:20230326T010000
END:DAYLIGHT
BEGIN:STANDARD
TZOFFSETFROM:+0200
TZOFFSETTO:+0100
TZNAME:CET
DTSTART:20231029T010000
END:STANDARD
BEGIN:DAYLIGHT
TZOFFSETFROM:+0100
TZOFFSETTO:+0200
TZNAME:CEST
DTSTART:20240331T010000
END:DAYLIGHT
BEGIN:STANDARD
TZOFFSETFROM:+0200
TZOFFSETTO:+0100
TZNAME:CET
DTSTART:20241027T010000
END:STANDARD
END:VTIMEZONE
BEGIN:VEVENT
DTSTART;TZID=Europe/Rome:20230222T093000
DTEND;TZID=Europe/Rome:20230224T180000
DTSTAMP:20260424T195509
CREATED:20221228T100048Z
LAST-MODIFIED:20240317T144835Z
UID:13318-1677058200-1677261600@www.alldataee.com
SUMMARY:A&T - Automation & Testing (TO)
DESCRIPTION:The innovative format of A&T enhances the value of the trade exhibition with a “visionary but practical” program of Information and Knowledge events that are planned with the needs of small and medium-sized enterprise in mind. Our goal is to provide real answers to the needs of Italian companies eager to rise to the competitive challenges posed by the new production and business models of Industry 4.0. \nA&T was born in 2007 as a fair dedicated to Testing and Measurement and\, together with the magazine TUTTO_MISURE of which it is the publisher\, has put at the center the goal of contributing to the dissemination of the culture of reliability\, quality\, safety and innovation\, addressing in particular to an industrial and scientific audience. \nIn 2015\, on the advice of leading exhibitors and the industrial world\, A&T evolved and gave birth to a wider project dedicated to the 4 specific focuses that characterize the production chain: DESIGN\, PRODUCTION-AUTOMATION\, RELIABILITY\, LOGISTICS. \nIn 2021 we seized the chance to deliver online content in February with the Digital Show and later in June with A&T Specialist Events. The lines of communication with the world of industry and research remained open with\, as always\, the ultimate goal of spreading the culture of innovation and creating networking opportunities for suppliers and users of technology and know-how. \n2022 is the year of the restart\, the A&T fair has the honor of being the first event on the calendar among the events dedicated to technologies for the industrial world. The A&T 2022 project proposes the Fair in attendance in April\, and two specialized events online in June and September. \nTo help companies rise to the evolving challenges of staying competitive\, the A&T in-person show will include a program of training events created and approved by our INDUSTRIAL SCIENTIFIC COMMITTEE. The best examples of innovation will be presented with the prestigious INNOVATION 4.0 AWARD.
URL:https://www.alldataee.com/en/events/aet-automation-testing-to/
LOCATION:Lingotto Fiere Torino\, Via Nizza 294\, Torino\, (TO)\, 10126\, Italy
CATEGORIES:Conferences,Exhibitions
ATTACH;FMTTYPE=:
ORGANIZER;CN="A&T sas":MAILTO:info@aetevent.com
END:VEVENT
END:VCALENDAR